BEGIN:VCALENDAR
VERSION:2.0
PRODID:-//Astronomischer Arbeitskreis Salzkammergut - ECPv6.15.20//NONSGML v1.0//EN
CALSCALE:GREGORIAN
METHOD:PUBLISH
X-WR-CALNAME:Astronomischer Arbeitskreis Salzkammergut
X-ORIGINAL-URL:https://astronomie.at
X-WR-CALDESC:Veranstaltungen für Astronomischer Arbeitskreis Salzkammergut
REFRESH-INTERVAL;VALUE=DURATION:PT1H
X-Robots-Tag:noindex
X-PUBLISHED-TTL:PT1H
BEGIN:VTIMEZONE
TZID:Europe/Berlin
BEGIN:DAYLIGHT
TZOFFSETFROM:+0100
TZOFFSETTO:+0200
TZNAME:CEST
DTSTART:20250330T010000
END:DAYLIGHT
BEGIN:STANDARD
TZOFFSETFROM:+0200
TZOFFSETTO:+0100
TZNAME:CET
DTSTART:20251026T010000
END:STANDARD
BEGIN:DAYLIGHT
TZOFFSETFROM:+0100
TZOFFSETTO:+0200
TZNAME:CEST
DTSTART:20260329T010000
END:DAYLIGHT
BEGIN:STANDARD
TZOFFSETFROM:+0200
TZOFFSETTO:+0100
TZNAME:CET
DTSTART:20261025T010000
END:STANDARD
BEGIN:DAYLIGHT
TZOFFSETFROM:+0100
TZOFFSETTO:+0200
TZNAME:CEST
DTSTART:20270328T010000
END:DAYLIGHT
BEGIN:STANDARD
TZOFFSETFROM:+0200
TZOFFSETTO:+0100
TZNAME:CET
DTSTART:20271031T010000
END:STANDARD
END:VTIMEZONE
BEGIN:VEVENT
DTSTART;TZID=Europe/Berlin:20260424T160000
DTEND;TZID=Europe/Berlin:20260424T210000
DTSTAMP:20260420T113301
CREATED:20260305T100055Z
LAST-MODIFIED:20260305T100055Z
UID:10000158-1777046400-1777064400@astronomie.at
SUMMARY:Langen Nacht der Bibliotheken in der Pfarrbibliothek im Stift Lambach
DESCRIPTION:
URL:https://astronomie.at/event/langen-nacht-der-bibliotheken-in-der-pfarrbibliothek-im-stift-lambach-2026/
LOCATION:Pfarrbibliothek Stift Lambach\, Im Stiftshof Klosterplatz 1\, Lambach\, 4650\, Österreich
CATEGORIES:Workshops,Sonstiges
ORGANIZER;CN="Astronomischer Arbeitskreis Salzkammergut":MAILTO:info@astronomie.at
GEO:48.0910844;13.8769351
X-APPLE-STRUCTURED-LOCATION;VALUE=URI;X-ADDRESS=Pfarrbibliothek Stift Lambach Im Stiftshof Klosterplatz 1 Lambach 4650 Österreich;X-APPLE-RADIUS=500;X-TITLE=Im Stiftshof Klosterplatz 1:geo:13.8769351,48.0910844
END:VEVENT
END:VCALENDAR