BEGIN:VCALENDAR
VERSION:2.0
PRODID:-//Astronomischer Arbeitskreis Salzkammergut - ECPv6.15.20//NONSGML v1.0//EN
CALSCALE:GREGORIAN
METHOD:PUBLISH
X-WR-CALNAME:Astronomischer Arbeitskreis Salzkammergut
X-ORIGINAL-URL:https://astronomie.at
X-WR-CALDESC:Veranstaltungen für Astronomischer Arbeitskreis Salzkammergut
REFRESH-INTERVAL;VALUE=DURATION:PT1H
X-Robots-Tag:noindex
X-PUBLISHED-TTL:PT1H
BEGIN:VTIMEZONE
TZID:Europe/Berlin
BEGIN:DAYLIGHT
TZOFFSETFROM:+0100
TZOFFSETTO:+0200
TZNAME:CEST
DTSTART:20230326T010000
END:DAYLIGHT
BEGIN:STANDARD
TZOFFSETFROM:+0200
TZOFFSETTO:+0100
TZNAME:CET
DTSTART:20231029T010000
END:STANDARD
BEGIN:DAYLIGHT
TZOFFSETFROM:+0100
TZOFFSETTO:+0200
TZNAME:CEST
DTSTART:20240331T010000
END:DAYLIGHT
BEGIN:STANDARD
TZOFFSETFROM:+0200
TZOFFSETTO:+0100
TZNAME:CET
DTSTART:20241027T010000
END:STANDARD
BEGIN:DAYLIGHT
TZOFFSETFROM:+0100
TZOFFSETTO:+0200
TZNAME:CEST
DTSTART:20250330T010000
END:DAYLIGHT
BEGIN:STANDARD
TZOFFSETFROM:+0200
TZOFFSETTO:+0100
TZNAME:CET
DTSTART:20251026T010000
END:STANDARD
END:VTIMEZONE
BEGIN:VEVENT
DTSTART;TZID=Europe/Berlin:20241004T190000
DTEND;TZID=Europe/Berlin:20241004T210000
DTSTAMP:20260421T112833
CREATED:20240909T112849Z
LAST-MODIFIED:20240909T112849Z
UID:10000092-1728068400-1728075600@astronomie.at
SUMMARY:Monatstreffen Oktober
DESCRIPTION:Freitag 4. Oktober 2024 \n19 Uhr \nGasthaus Sonne in Weyregg \n  \nSommerrückblick \nKomet Tsuchinshan im Oktober
URL:https://astronomie.at/event/monatstreffen-oktober/
LOCATION:Gasthof Sonne\, Weyregger Str. 60\, Weyregg am Attersee\, 4852\, Österreich
CATEGORIES:Vereinstreffen
ORGANIZER;CN="Astronomischer Arbeitskreis Salzkammergut":MAILTO:info@astronomie.at
GEO:47.9011773;13.5695898
X-APPLE-STRUCTURED-LOCATION;VALUE=URI;X-ADDRESS=Gasthof Sonne Weyregger Str. 60 Weyregg am Attersee 4852 Österreich;X-APPLE-RADIUS=500;X-TITLE=Weyregger Str. 60:geo:13.5695898,47.9011773
END:VEVENT
BEGIN:VEVENT
DTSTART;TZID=Europe/Berlin:20241019T100000
DTEND;TZID=Europe/Berlin:20241019T160000
DTSTAMP:20260421T112833
CREATED:20240916T203857Z
LAST-MODIFIED:20240916T203857Z
UID:10000095-1729332000-1729353600@astronomie.at
SUMMARY:Supergalaktisches Familienwochenende
DESCRIPTION:Schloßmuseum Peuerbach \n21. und 22. September von 10 bis 16 Uhr \nSupergalaktisches Familienwochenende \nVeranstaltungstage im Oktober:
URL:https://astronomie.at/event/supergalaktisches-familienwochenende/2024-10-19/
LOCATION:Schlossmuseum Peuerbach\, Rathausplatz 2\, Peuerbach\, 4722
CATEGORIES:Sonstiges
ATTACH;FMTTYPE=image/jpeg:https://astronomie.at/wp-content/uploads/2024/09/Schloss-September-1.jpg
ORGANIZER;CN="Astronomischer Arbeitskreis Salzkammergut":MAILTO:info@astronomie.at
GEO:48.3442259;13.7712413
X-APPLE-STRUCTURED-LOCATION;VALUE=URI;X-ADDRESS=Schlossmuseum Peuerbach Rathausplatz 2 Peuerbach 4722;X-APPLE-RADIUS=500;X-TITLE=Rathausplatz 2:geo:13.7712413,48.3442259
END:VEVENT
BEGIN:VEVENT
DTSTART;TZID=Europe/Berlin:20241020T100000
DTEND;TZID=Europe/Berlin:20241020T160000
DTSTAMP:20260421T112833
CREATED:20240916T203857Z
LAST-MODIFIED:20240916T203857Z
UID:10000096-1729418400-1729440000@astronomie.at
SUMMARY:Supergalaktisches Familienwochenende
DESCRIPTION:Schloßmuseum Peuerbach \n21. und 22. September von 10 bis 16 Uhr \nSupergalaktisches Familienwochenende \nVeranstaltungstage im Oktober:
URL:https://astronomie.at/event/supergalaktisches-familienwochenende/2024-10-20/
LOCATION:Schlossmuseum Peuerbach\, Rathausplatz 2\, Peuerbach\, 4722
CATEGORIES:Sonstiges
ATTACH;FMTTYPE=image/jpeg:https://astronomie.at/wp-content/uploads/2024/09/Schloss-September-1.jpg
ORGANIZER;CN="Astronomischer Arbeitskreis Salzkammergut":MAILTO:info@astronomie.at
GEO:48.3442259;13.7712413
X-APPLE-STRUCTURED-LOCATION;VALUE=URI;X-ADDRESS=Schlossmuseum Peuerbach Rathausplatz 2 Peuerbach 4722;X-APPLE-RADIUS=500;X-TITLE=Rathausplatz 2:geo:13.7712413,48.3442259
END:VEVENT
END:VCALENDAR