BEGIN:VCALENDAR
VERSION:2.0
PRODID:-//Astronomischer Arbeitskreis Salzkammergut - ECPv6.15.20//NONSGML v1.0//EN
CALSCALE:GREGORIAN
METHOD:PUBLISH
X-ORIGINAL-URL:https://astronomie.at
X-WR-CALDESC:Veranstaltungen für Astronomischer Arbeitskreis Salzkammergut
REFRESH-INTERVAL;VALUE=DURATION:PT1H
X-Robots-Tag:noindex
X-PUBLISHED-TTL:PT1H
BEGIN:VTIMEZONE
TZID:Europe/Berlin
BEGIN:DAYLIGHT
TZOFFSETFROM:+0100
TZOFFSETTO:+0200
TZNAME:CEST
DTSTART:20230326T010000
END:DAYLIGHT
BEGIN:STANDARD
TZOFFSETFROM:+0200
TZOFFSETTO:+0100
TZNAME:CET
DTSTART:20231029T010000
END:STANDARD
BEGIN:DAYLIGHT
TZOFFSETFROM:+0100
TZOFFSETTO:+0200
TZNAME:CEST
DTSTART:20240331T010000
END:DAYLIGHT
BEGIN:STANDARD
TZOFFSETFROM:+0200
TZOFFSETTO:+0100
TZNAME:CET
DTSTART:20241027T010000
END:STANDARD
BEGIN:DAYLIGHT
TZOFFSETFROM:+0100
TZOFFSETTO:+0200
TZNAME:CEST
DTSTART:20250330T010000
END:DAYLIGHT
BEGIN:STANDARD
TZOFFSETFROM:+0200
TZOFFSETTO:+0100
TZNAME:CET
DTSTART:20251026T010000
END:STANDARD
END:VTIMEZONE
BEGIN:VEVENT
DTSTART;TZID=Europe/Berlin:20240720T200000
DTEND;TZID=Europe/Berlin:20240720T233000
DTSTAMP:20260421T155059
CREATED:20240617T065109Z
LAST-MODIFIED:20240716T053132Z
UID:10000082-1721505600-1721518200@astronomie.at
SUMMARY:Moonwalk – OpenAirKonzert auf der Sternwarte Gahberg
DESCRIPTION:Kooperationsveranstaltung der Sternwarte Gahberg mit der Kulturgruppe O2 Lambach \nmit GALAKTISCHER MUSIK von BORGHEE & JAZZ \nBegrenzte Teilnehmeranzahl – nähere Infos und Reservierung/Anmeldung unter:\nhttps://www.gruppeo2.at/index.php/gruppe-o2programmlambach/736-sa-130724-o2-moon-walk-sternwarte-grillerei-livemusik-a-more
URL:https://astronomie.at/event/moonwalk-openairkonzert-auf-der-sternwarte-gahberg/
LOCATION:Sternwarte Gahberg\, Gahberg\, Weyregg am Attersee\, 4852\, Österreich
CATEGORIES:Sonstiges
ATTACH;FMTTYPE=image/jpeg:https://astronomie.at/wp-content/uploads/2024/06/2024-07-20-moonwalk.jpg
ORGANIZER;CN="Astronomischer Arbeitskreis Salzkammergut":MAILTO:info@astronomie.at
GEO:47.9121589;13.6049812
X-APPLE-STRUCTURED-LOCATION;VALUE=URI;X-ADDRESS=Sternwarte Gahberg Gahberg Weyregg am Attersee 4852 Österreich;X-APPLE-RADIUS=500;X-TITLE=Gahberg:geo:13.6049812,47.9121589
END:VEVENT
END:VCALENDAR