BEGIN:VCALENDAR
VERSION:2.0
PRODID:-//Astronomischer Arbeitskreis Salzkammergut - ECPv6.15.20//NONSGML v1.0//EN
CALSCALE:GREGORIAN
METHOD:PUBLISH
X-ORIGINAL-URL:https://astronomie.at
X-WR-CALDESC:Veranstaltungen für Astronomischer Arbeitskreis Salzkammergut
REFRESH-INTERVAL;VALUE=DURATION:PT1H
X-Robots-Tag:noindex
X-PUBLISHED-TTL:PT1H
BEGIN:VTIMEZONE
TZID:Europe/Berlin
BEGIN:DAYLIGHT
TZOFFSETFROM:+0100
TZOFFSETTO:+0200
TZNAME:CEST
DTSTART:20230326T010000
END:DAYLIGHT
BEGIN:STANDARD
TZOFFSETFROM:+0200
TZOFFSETTO:+0100
TZNAME:CET
DTSTART:20231029T010000
END:STANDARD
BEGIN:DAYLIGHT
TZOFFSETFROM:+0100
TZOFFSETTO:+0200
TZNAME:CEST
DTSTART:20240331T010000
END:DAYLIGHT
BEGIN:STANDARD
TZOFFSETFROM:+0200
TZOFFSETTO:+0100
TZNAME:CET
DTSTART:20241027T010000
END:STANDARD
BEGIN:DAYLIGHT
TZOFFSETFROM:+0100
TZOFFSETTO:+0200
TZNAME:CEST
DTSTART:20250330T010000
END:DAYLIGHT
BEGIN:STANDARD
TZOFFSETFROM:+0200
TZOFFSETTO:+0100
TZNAME:CET
DTSTART:20251026T010000
END:STANDARD
END:VTIMEZONE
BEGIN:VEVENT
DTSTART;TZID=Europe/Berlin:20240301T180000
DTEND;TZID=Europe/Berlin:20240301T210000
DTSTAMP:20260421T132119
CREATED:20240203T085021Z
LAST-MODIFIED:20240203T085021Z
UID:10000070-1709316000-1709326800@astronomie.at
SUMMARY:Monatstreffen März 2024
DESCRIPTION:Monatstreffen am Freitag\, 1. März 2024 ab 18 Uhr (Vorträge ab 19 Uhr) im Gasthof Sonne in Weyregg\nProgramm: „ Astrofotografie light „ \nHannes Schachtner: „das 5-Minuten Astrofoto“ \nManfred Penn: schnelle Stack-Ergebnisse mit dem Programm „Sequator“ \nAstrofotos vom Mitgliedern 2023
URL:https://astronomie.at/event/monatstreffen-maerz-2024/
LOCATION:Gasthof Sonne\, Weyregger Str. 60\, Weyregg am Attersee\, 4852\, Österreich
CATEGORIES:Vereinstreffen
ORGANIZER;CN="Astronomischer Arbeitskreis Salzkammergut":MAILTO:info@astronomie.at
GEO:47.9011773;13.5695898
X-APPLE-STRUCTURED-LOCATION;VALUE=URI;X-ADDRESS=Gasthof Sonne Weyregger Str. 60 Weyregg am Attersee 4852 Österreich;X-APPLE-RADIUS=500;X-TITLE=Weyregger Str. 60:geo:13.5695898,47.9011773
END:VEVENT
BEGIN:VEVENT
DTSTART;TZID=Europe/Berlin:20240319T190000
DTEND;TZID=Europe/Berlin:20240319T210000
DTSTAMP:20260421T132119
CREATED:20240207T054058Z
LAST-MODIFIED:20240311T074152Z
UID:10000071-1710874800-1710882000@astronomie.at
SUMMARY:Astronomieabend in Peuerbach
DESCRIPTION:Einladung zum Astronomieabend in Peuerbach \nDienstag\, 19. März 2024\, 19.00 Uhr im Cafe Sterndl in Peuerbach\, Roßanger 5 \n„Astronomischer Arbeitskreis Salzkammergut – Projekt Astronomie in Peuerbach“ \nVortrag von Erwin Filimon / Obmann Astronomischer Arbeitskreis Salzkammergut \nIn Peuerbach soll eine Gruppe Astronomie-Interessenten entstehen. \nBei Schönwetter anschließend Beobachtung mit transportablen Teleskopen beim Kometor „Mondkrater“ P(e)urbach“
URL:https://astronomie.at/event/astronomieabend-in-peuerbach/
LOCATION:Cafe Sterndl\, Roßanger 5\, Peuerbach\, 4722\, Österreich
CATEGORIES:Sonstiges
ORGANIZER;CN="Astronomischer Arbeitskreis Salzkammergut":MAILTO:info@astronomie.at
GEO:48.3456837;13.77312
X-APPLE-STRUCTURED-LOCATION;VALUE=URI;X-ADDRESS=Cafe Sterndl Roßanger 5 Peuerbach 4722 Österreich;X-APPLE-RADIUS=500;X-TITLE=Roßanger 5:geo:13.77312,48.3456837
END:VEVENT
BEGIN:VEVENT
DTSTART;VALUE=DATE:20240322
DTEND;VALUE=DATE:20240325
DTSTAMP:20260421T132119
CREATED:20231017T061124Z
LAST-MODIFIED:20231017T061138Z
UID:10000062-1711065600-1711324799@astronomie.at
SUMMARY:CEDIC 2024
DESCRIPTION:Central European Deepsky Imaging Conference \nvon 22. bis 24. März 2023 \nIm Ars Electronica Center in Linz\nProgramm:  https://www.cedic.at/en/agenda.php
URL:https://astronomie.at/event/cedic-2024/
LOCATION:Ars Electronica Center\, Ars-Electronica-Straße 1\, Linz\, 4040\, Österreich
CATEGORIES:Sonstiges
GEO:48.3102186;14.285246
X-APPLE-STRUCTURED-LOCATION;VALUE=URI;X-ADDRESS=Ars Electronica Center Ars-Electronica-Straße 1 Linz 4040 Österreich;X-APPLE-RADIUS=500;X-TITLE=Ars-Electronica-Straße 1:geo:14.285246,48.3102186
END:VEVENT
END:VCALENDAR