BEGIN:VCALENDAR
VERSION:2.0
PRODID:-//Astronomischer Arbeitskreis Salzkammergut - ECPv6.15.20//NONSGML v1.0//EN
CALSCALE:GREGORIAN
METHOD:PUBLISH
X-WR-CALNAME:Astronomischer Arbeitskreis Salzkammergut
X-ORIGINAL-URL:https://astronomie.at
X-WR-CALDESC:Veranstaltungen für Astronomischer Arbeitskreis Salzkammergut
REFRESH-INTERVAL;VALUE=DURATION:PT1H
X-Robots-Tag:noindex
X-PUBLISHED-TTL:PT1H
BEGIN:VTIMEZONE
TZID:Europe/Berlin
BEGIN:DAYLIGHT
TZOFFSETFROM:+0100
TZOFFSETTO:+0200
TZNAME:CEST
DTSTART:20210328T010000
END:DAYLIGHT
BEGIN:STANDARD
TZOFFSETFROM:+0200
TZOFFSETTO:+0100
TZNAME:CET
DTSTART:20211031T010000
END:STANDARD
BEGIN:DAYLIGHT
TZOFFSETFROM:+0100
TZOFFSETTO:+0200
TZNAME:CEST
DTSTART:20220327T010000
END:DAYLIGHT
BEGIN:STANDARD
TZOFFSETFROM:+0200
TZOFFSETTO:+0100
TZNAME:CET
DTSTART:20221030T010000
END:STANDARD
BEGIN:DAYLIGHT
TZOFFSETFROM:+0100
TZOFFSETTO:+0200
TZNAME:CEST
DTSTART:20230326T010000
END:DAYLIGHT
BEGIN:STANDARD
TZOFFSETFROM:+0200
TZOFFSETTO:+0100
TZNAME:CET
DTSTART:20231029T010000
END:STANDARD
END:VTIMEZONE
BEGIN:VEVENT
DTSTART;TZID=Europe/Berlin:20221205T173000
DTEND;TZID=Europe/Berlin:20221205T183000
DTSTAMP:20260421T232800
CREATED:20221127T211046Z
LAST-MODIFIED:20221127T211046Z
UID:10000025-1670261400-1670265000@astronomie.at
SUMMARY:Uranusbedeckung durch den Mond
DESCRIPTION:Am Montag\, dem 5. Dezember 2022 wird der Mond den Planeten Uranus bedecken.\nGegen ca. 17:33 Uhr MEZ wird der Uranus am linken oberen\, noch unbeleuchteten Rand hinter dem Mond verschwinden und nach etwa einer Stunde um 18:30 Uhr MEZ am rechten oberen Mondrand wieder auftauchen. \nDiese Zeiten sind ortsabhängig und können je nach Standort sich um einige Minuten verschieben.\nUranus ist ein Planet\, der unter günstigsten Bedingungen gerade noch freisichtig mit dem Auge zu sehen ist.\nFür die Beobachtung der Bedeckung durch den Mond ist ein Teleskop notwendig.\nDer sehr helle Mond überstrahlt den Planeten und man benötigt eine hohe Vergrößerung um die Bedeckung zu sehen.\nDa der Eintritt am noch unbeleuchteten Mondrand stattfindet ist der Beginn der Bedeckung wesentlich besser zu sehen\, als der Austritt am voll beleuchteten Mondrand. \nWir wünschen Gutes Wetter und eine erfolgreiche Beobachtung.\nAuf der Sternwarte Gahberg findet kein Führungsbetrieb statt.
URL:https://astronomie.at/event/uranusbedeckung-durch-den-mond/
CATEGORIES:Himmelsereignisse
ATTACH;FMTTYPE=image/jpeg:https://astronomie.at/wp-content/uploads/2022/11/Uranusbedeckung-durch-den-Mond.jpg
END:VEVENT
BEGIN:VEVENT
DTSTART;TZID=Europe/Berlin:20221208T060000
DTEND;TZID=Europe/Berlin:20221208T073000
DTSTAMP:20260421T232800
CREATED:20221119T173413Z
LAST-MODIFIED:20221119T183650Z
UID:10000024-1670479200-1670484600@astronomie.at
SUMMARY:Der Vollmond „schluckt“ den Mars
DESCRIPTION:Am Donnerstag\, 8. Dezember 2022 (Feiertag) „verschluckt“ der Mond den Mars. Gegen 6.05 Uhr früh verschwindet der Mars hinter dem Vollmond am linken oberen Mondrand und gegen 7.00 Uhr tritt er am rechten Mondrand wieder aus. \nMit bloßem Auge ist das durch die Helligkeit des Vollmondes nur schwer zu erkennen. Dazu ist zumindest ein Feldstecher nötig. Mit einem Teleskop ist dies sehr gut und eindrucksvoll zu sehen.
URL:https://astronomie.at/event/der-vollmond-schluckt-den-mars/
CATEGORIES:Himmelsereignisse
ATTACH;FMTTYPE=image/jpeg:https://astronomie.at/wp-content/uploads/2022/11/Marsbedeckung-Mond-AAS.jpg
END:VEVENT
BEGIN:VEVENT
DTSTART;TZID=Europe/Berlin:20221213T220000
DTEND;TZID=Europe/Berlin:20221214T200000
DTSTAMP:20260421T232800
CREATED:20221116T162325Z
LAST-MODIFIED:20230226T181842Z
UID:10000009-1670968800-1671048000@astronomie.at
SUMMARY:Geminiden
DESCRIPTION:In einem Jahr gibt es rund 80 größere und kleiner Sternschnuppen- bzw. Meteorströme zu beobachten. \nEinen jährlichen „Kalender“ dieser Meteorströme mit jährlichen Besonderheiten ev. Ausbrüchen\, genauen Zeiten des Maximums findet man auf der Seite der IMO (Internationale Meteor Organisation) https://www.imo.net/resources/calendar/ \nWichtig bei der Beobachtung von Sternschnuppen ist\, dass kein helles Mondlicht die Beobachtung stört. \nHelles Mondlicht lässt die schwachen Sternschnuppen „verschwinden“ \nGrößere Meteorströme mit zahlreichen Sternschnuppen sind: \nDie Quadrantiden mit Maximum um den 3. und 4. Jänner\nDie Lyriden mit Maximum um den 22. April\nDie Aquariden mit Maximum um den 30. Juli\nDie Perseiden mit Maximum um den 12. bis 14. August\nDie Orioniden mit Maximum um den 21./22. Oktober \nZwischen 30. Okt. und ca. 10 November treten fast jede Nacht helle Feuerkugeln der Tauriden auf.\nDie Leoniden mit Maximum um den 17./18. November\nDie Geminiden mit Maximum um den 13./14. Dezember\nDie Ursiden mit Maximum um den 22./23. Dezember
URL:https://astronomie.at/event/geminiden/
CATEGORIES:Himmelsereignisse
ATTACH;FMTTYPE=image/jpeg:https://astronomie.at/wp-content/uploads/2022/11/Hermann-Koberger-Geminiden-20201214-01.jpg
END:VEVENT
BEGIN:VEVENT
DTSTART;TZID=Europe/Berlin:20221222T190000
DTEND;TZID=Europe/Berlin:20221223T050000
DTSTAMP:20260421T232800
CREATED:20221116T162517Z
LAST-MODIFIED:20230226T181854Z
UID:10000014-1671735600-1671771600@astronomie.at
SUMMARY:Ursiden
DESCRIPTION:In einem Jahr gibt es rund 80 größere und kleiner Sternschnuppen- bzw. Meteorströme zu beobachten. \nEinen jährlichen „Kalender“ dieser Meteorströme mit jährlichen Besonderheiten ev. Ausbrüchen\, genauen Zeiten des Maximums findet man auf der Seite der IMO (Internationale Meteor Organisation) https://www.imo.net/resources/calendar/ \nWichtig bei der Beobachtung von Sternschnuppen ist\, dass kein helles Mondlicht die Beobachtung stört. \nHelles Mondlicht lässt die schwachen Sternschnuppen „verschwinden“ \nGrößere Meteorströme mit zahlreichen Sternschnuppen sind: \nDie Quadrantiden mit Maximum um den 3. und 4. Jänner\nDie Lyriden mit Maximum um den 22. April\nDie Aquariden mit Maximum um den 30. Juli\nDie Perseiden mit Maximum um den 12. bis 14. August\nDie Orioniden mit Maximum um den 21./22. Oktober \nZwischen 30. Okt. und ca. 10 November treten fast jede Nacht helle Feuerkugeln der Tauriden auf.\nDie Leoniden mit Maximum um den 17./18. November\nDie Geminiden mit Maximum um den 13./14. Dezember\nDie Ursiden mit Maximum um den 22./23. Dezember
URL:https://astronomie.at/event/ursiden/
CATEGORIES:Himmelsereignisse
ATTACH;FMTTYPE=image/jpeg:https://astronomie.at/wp-content/uploads/2022/11/Koberger-Hermann-Geminiden-20201214-02.jpg
END:VEVENT
BEGIN:VEVENT
DTSTART;TZID=Europe/Berlin:20221230T190000
DTEND;TZID=Europe/Berlin:20221230T210000
DTSTAMP:20260421T232800
CREATED:20221215T195947Z
LAST-MODIFIED:20221215T195947Z
UID:10000026-1672426800-1672434000@astronomie.at
SUMMARY:Monatstreffen Dezember 2022
DESCRIPTION:Das Monatstreffen des Astronomischen Arbeitskreises Salzkammergut\nfindet am Freitag\, dem 30. Dezember 2022 um 19 Uhr \nIm Chili-Burger https://www.chiliburger.at/home56930702  (ehem. Gasthof Hellermann) beim Friedhof in Lenzing statt. \nProgramm: \nRückschau auf der Jahr 2022 und Vorschau auf 2023
URL:https://astronomie.at/event/monatstreffen-dezember-2022/
LOCATION:Chili-Burger (ehem. Gasthaus Hellermann)\, Neubrunner Str. 2\, Lenzing\, 4860\, Österreich
CATEGORIES:Vereinstreffen
ORGANIZER;CN="Astronomischer Arbeitskreis Salzkammergut":MAILTO:info@astronomie.at
GEO:47.9686486;13.6046386
X-APPLE-STRUCTURED-LOCATION;VALUE=URI;X-ADDRESS=Chili-Burger (ehem. Gasthaus Hellermann) Neubrunner Str. 2 Lenzing 4860 Österreich;X-APPLE-RADIUS=500;X-TITLE=Neubrunner Str. 2:geo:13.6046386,47.9686486
END:VEVENT
END:VCALENDAR