BEGIN:VCALENDAR
VERSION:2.0
PRODID:-//Astronomischer Arbeitskreis Salzkammergut - ECPv6.15.20//NONSGML v1.0//EN
CALSCALE:GREGORIAN
METHOD:PUBLISH
X-WR-CALNAME:Astronomischer Arbeitskreis Salzkammergut
X-ORIGINAL-URL:https://astronomie.at
X-WR-CALDESC:Veranstaltungen für Astronomischer Arbeitskreis Salzkammergut
REFRESH-INTERVAL;VALUE=DURATION:PT1H
X-Robots-Tag:noindex
X-PUBLISHED-TTL:PT1H
BEGIN:VTIMEZONE
TZID:Europe/Berlin
BEGIN:DAYLIGHT
TZOFFSETFROM:+0100
TZOFFSETTO:+0200
TZNAME:CEST
DTSTART:20230326T010000
END:DAYLIGHT
BEGIN:STANDARD
TZOFFSETFROM:+0200
TZOFFSETTO:+0100
TZNAME:CET
DTSTART:20231029T010000
END:STANDARD
BEGIN:DAYLIGHT
TZOFFSETFROM:+0100
TZOFFSETTO:+0200
TZNAME:CEST
DTSTART:20240331T010000
END:DAYLIGHT
BEGIN:STANDARD
TZOFFSETFROM:+0200
TZOFFSETTO:+0100
TZNAME:CET
DTSTART:20241027T010000
END:STANDARD
BEGIN:DAYLIGHT
TZOFFSETFROM:+0100
TZOFFSETTO:+0200
TZNAME:CEST
DTSTART:20250330T010000
END:DAYLIGHT
BEGIN:STANDARD
TZOFFSETFROM:+0200
TZOFFSETTO:+0100
TZNAME:CET
DTSTART:20251026T010000
END:STANDARD
END:VTIMEZONE
BEGIN:VEVENT
DTSTART;TZID=Europe/Berlin:20240813T220000
DTEND;TZID=Europe/Berlin:20240813T233000
DTSTAMP:20260421T140947
CREATED:20240726T065457Z
LAST-MODIFIED:20240813T183918Z
UID:10000084-1723586400-1723591800@astronomie.at
SUMMARY:Perseiden-Sternschnuppen nächtliche Atterseeschifffahrt
DESCRIPTION:Atterseeschifffahrt wegen Unwetter abgesagt – wir bedauern \nWie im Vorjahr wird es auch heuer in Kooperation mit der Atterseeschifffahrt https://atterseeschifffahrt.at eine nächtliche Sternschnuppenfahrt zur Beobachtung der Perseiden-Sternschnuppen auf dem Attersee \nmit dem Team der Sternwarte Gahberg geben. \n  \nDie Fahrt findet am Dienstag\, dem 13. August 2024 abends statt. \nDetails und Anmeldungen bei der Atterseeschifffahrt unter diesem Link: https://atterseeschifffahrt.at/ausfluege-events/sternschnuppenfahrt/ \n  \nAufgrund der unsicheren Wetterlage wird mit der Attersee-Schifffahrt um 18 Uhr über die Abhaltung der Fahrt entschieden.\nAb 18:30 Uhr wird auf unserem Servicetelefon 07662-8297 bekanntgegeben\,  ob die Fahrt abgehalten werden kann.
URL:https://astronomie.at/event/perseiden-sternschnuppen-naechtliche-atterseeschifffahrt/
CATEGORIES:Himmelsereignisse,Sonstiges
ORGANIZER;CN="Astronomischer Arbeitskreis Salzkammergut":MAILTO:info@astronomie.at
END:VEVENT
END:VCALENDAR