BEGIN:VCALENDAR
VERSION:2.0
PRODID:-//Astronomischer Arbeitskreis Salzkammergut - ECPv6.15.20//NONSGML v1.0//EN
CALSCALE:GREGORIAN
METHOD:PUBLISH
X-WR-CALNAME:Astronomischer Arbeitskreis Salzkammergut
X-ORIGINAL-URL:https://astronomie.at
X-WR-CALDESC:Veranstaltungen für Astronomischer Arbeitskreis Salzkammergut
REFRESH-INTERVAL;VALUE=DURATION:PT1H
X-Robots-Tag:noindex
X-PUBLISHED-TTL:PT1H
BEGIN:VTIMEZONE
TZID:Europe/Berlin
BEGIN:DAYLIGHT
TZOFFSETFROM:+0100
TZOFFSETTO:+0200
TZNAME:CEST
DTSTART:20230326T010000
END:DAYLIGHT
BEGIN:STANDARD
TZOFFSETFROM:+0200
TZOFFSETTO:+0100
TZNAME:CET
DTSTART:20231029T010000
END:STANDARD
BEGIN:DAYLIGHT
TZOFFSETFROM:+0100
TZOFFSETTO:+0200
TZNAME:CEST
DTSTART:20240331T010000
END:DAYLIGHT
BEGIN:STANDARD
TZOFFSETFROM:+0200
TZOFFSETTO:+0100
TZNAME:CET
DTSTART:20241027T010000
END:STANDARD
BEGIN:DAYLIGHT
TZOFFSETFROM:+0100
TZOFFSETTO:+0200
TZNAME:CEST
DTSTART:20250330T010000
END:DAYLIGHT
BEGIN:STANDARD
TZOFFSETFROM:+0200
TZOFFSETTO:+0100
TZNAME:CET
DTSTART:20251026T010000
END:STANDARD
END:VTIMEZONE
BEGIN:VEVENT
DTSTART;TZID=Europe/Berlin:20240301T180000
DTEND;TZID=Europe/Berlin:20240301T210000
DTSTAMP:20260421T131240
CREATED:20240203T085021Z
LAST-MODIFIED:20240203T085021Z
UID:10000070-1709316000-1709326800@astronomie.at
SUMMARY:Monatstreffen März 2024
DESCRIPTION:Monatstreffen am Freitag\, 1. März 2024 ab 18 Uhr (Vorträge ab 19 Uhr) im Gasthof Sonne in Weyregg\nProgramm: „ Astrofotografie light „ \nHannes Schachtner: „das 5-Minuten Astrofoto“ \nManfred Penn: schnelle Stack-Ergebnisse mit dem Programm „Sequator“ \nAstrofotos vom Mitgliedern 2023
URL:https://astronomie.at/event/monatstreffen-maerz-2024/
LOCATION:Gasthof Sonne\, Weyregger Str. 60\, Weyregg am Attersee\, 4852\, Österreich
CATEGORIES:Vereinstreffen
ORGANIZER;CN="Astronomischer Arbeitskreis Salzkammergut":MAILTO:info@astronomie.at
GEO:47.9011773;13.5695898
X-APPLE-STRUCTURED-LOCATION;VALUE=URI;X-ADDRESS=Gasthof Sonne Weyregger Str. 60 Weyregg am Attersee 4852 Österreich;X-APPLE-RADIUS=500;X-TITLE=Weyregger Str. 60:geo:13.5695898,47.9011773
END:VEVENT
END:VCALENDAR