BEGIN:VCALENDAR
VERSION:2.0
PRODID:-//Astronomischer Arbeitskreis Salzkammergut - ECPv6.15.20//NONSGML v1.0//EN
CALSCALE:GREGORIAN
METHOD:PUBLISH
X-ORIGINAL-URL:https://astronomie.at
X-WR-CALDESC:Veranstaltungen für Astronomischer Arbeitskreis Salzkammergut
REFRESH-INTERVAL;VALUE=DURATION:PT1H
X-Robots-Tag:noindex
X-PUBLISHED-TTL:PT1H
BEGIN:VTIMEZONE
TZID:Europe/Berlin
BEGIN:DAYLIGHT
TZOFFSETFROM:+0100
TZOFFSETTO:+0200
TZNAME:CEST
DTSTART:20220327T010000
END:DAYLIGHT
BEGIN:STANDARD
TZOFFSETFROM:+0200
TZOFFSETTO:+0100
TZNAME:CET
DTSTART:20221030T010000
END:STANDARD
BEGIN:DAYLIGHT
TZOFFSETFROM:+0100
TZOFFSETTO:+0200
TZNAME:CEST
DTSTART:20230326T010000
END:DAYLIGHT
BEGIN:STANDARD
TZOFFSETFROM:+0200
TZOFFSETTO:+0100
TZNAME:CET
DTSTART:20231029T010000
END:STANDARD
BEGIN:DAYLIGHT
TZOFFSETFROM:+0100
TZOFFSETTO:+0200
TZNAME:CEST
DTSTART:20240331T010000
END:DAYLIGHT
BEGIN:STANDARD
TZOFFSETFROM:+0200
TZOFFSETTO:+0100
TZNAME:CET
DTSTART:20241027T010000
END:STANDARD
END:VTIMEZONE
BEGIN:VEVENT
DTSTART;TZID=Europe/Berlin:20230429T090000
DTEND;TZID=Europe/Berlin:20230429T170000
DTSTAMP:20260421T190738
CREATED:20221110T200043Z
LAST-MODIFIED:20230424T175457Z
UID:10000008-1682758800-1682787600@astronomie.at
SUMMARY:Astronomieworkshop 2023
DESCRIPTION:Der Astronomieworkshop 2023 – wird am Samstag\, dem 29. April 2023 im Pfarr- und Gemeindesaal Weyregg stattfinden. \nDer PixInsight bzw. Bildbearbeitunsworkshop wird am Sonntag\, 30. April 2023 im Gasthof/Hotel Bramosen abgehalten. \nDie Workshopteilnehmer erhalten mit Mail bereits eine Vorinfo. \n\nDas Workshopprogramm: \n \n\nTeilnahme mit Info- und Ausstellungsständen: \n\nTeleskop-Service Ransburg München– https://www.teleskop-express.de/shop/\nTeleskop-Austria Lacerta – https://teleskop-austria.at/\n\nWorkshopbeitrag 20 Euro bzw. für Mitglieder des Astronomischen Arbeitskreises Salzkammergut 15 Euro. Parken: Direkt beim Pfarr- und Gemeindezentrum\, oder neben dem\nFeuerwehrdepot (ca. 2 Gehminuten entfernt) \n\nMittagessen im nahegelegenen Gasthof Sonne in Weyregg – https://www.sonne-weyregg.at (ca. 2 Gehminuten vom Pfarr- und Gemeindezentrum in Weyregg). Bei Workshopbeginn kann das Mittagessen (warmes Mittagsbuffet) bestellt werden. Im Gasthof Sonne sind auch Zimmer verfügbar. \nAnmeldung zum Astronomieworkshop am 29. April 2023 in Weyregg\n\nUnterkünfte – Zimmer\nHotel Bramosen in Weyregg/Alexenau\nTel.: +43 (0) 7664 – 2291\nmail: ecker@hotel-bramosen.at\nwww.hotel-bramosen.at \nGasthof zur Sonne in Weyregg\n(2 Gehminuten vom Pfarr- und Gemeindezentrum entfernt)\nhttps://www.sonne-weyregg.at/\nTel.: +43 (0) 7664 2203 \nUnterkünfte am Gahberg\nAppartement Christine – www.traumblick.at\nUnterkunftssuchende können eine Ferienwohnung am Gahberg im Appartement Christine buchen – die Sternwarte Gahberg ist nur ca. 600 Meter entfernt auf gleicher Höhe.\nKontaktdaten: Appartement Christine Spießberger\, Gahberg 4\, 4852 Weyregg\,\nTel. 07664-3256\,\nE-Mail: traumblick@aon.at \nBrandnerhof – Gahberg – Tel. 07664-2390\nhttp://attersee.salzkammergut.at/klimt/oesterreich/unterkunft/103430/brandnerhof.html \nBauernhof Kronsteiner (Zocherl) – Gahberg – Tel. 07664-2397\nhttps://attersee.salzkammergut.at/oesterreich/unterkunft/101204/bauernhof-leitner-(zocherl).html \nBauernhof Moadl – Gahberg – Tel. 07664-2475 oder Tel. 0650-7305062\nhttps://attersee.salzkammergut.at/oesterreich/unterkunft/100967/bauernhof-moadl.html \nBauernhof Schneiderbauer – Gahberg – Tel. 07664-3140\nhttps://attersee.salzkammergut.at/oesterreich/unterkunft/430001336/bauernhof-schneiderbauer.html \nUnterkünfte am Miglberg\nGasthof Schöberingerhof – Miglberg 26 – Tel. 07664-2356\nhttps://attersee.salzkammergut.at/oesterreich/unterkunft/100682/gasthof-schoeberingerhof.html \nWeitere Zimmer/Unterkünfte auch unter: www.attersee.at
URL:https://astronomie.at/event/astronomieworkshop-2023/
LOCATION:Pfarr- und Gemeindezentrum Weyregg am Attersee\, Wachtbergstraße 4\, Weyregg am Attersee\, 4852\, Österreich
CATEGORIES:Workshops
ATTACH;FMTTYPE=image/jpeg:https://astronomie.at/wp-content/uploads/2022/10/AAS-Workshop-2022-58-scaled-1.jpg
ORGANIZER;CN="Astronomischer Arbeitskreis Salzkammergut":MAILTO:info@astronomie.at
GEO:47.9019285;13.5720819
X-APPLE-STRUCTURED-LOCATION;VALUE=URI;X-ADDRESS=Pfarr- und Gemeindezentrum Weyregg am Attersee Wachtbergstraße 4 Weyregg am Attersee 4852 Österreich;X-APPLE-RADIUS=500;X-TITLE=Wachtbergstraße 4:geo:13.5720819,47.9019285
END:VEVENT
END:VCALENDAR