BEGIN:VCALENDAR
VERSION:2.0
PRODID:-//Astronomischer Arbeitskreis Salzkammergut - ECPv6.15.20//NONSGML v1.0//EN
CALSCALE:GREGORIAN
METHOD:PUBLISH
X-ORIGINAL-URL:https://astronomie.at
X-WR-CALDESC:Veranstaltungen für Astronomischer Arbeitskreis Salzkammergut
REFRESH-INTERVAL;VALUE=DURATION:PT1H
X-Robots-Tag:noindex
X-PUBLISHED-TTL:PT1H
BEGIN:VTIMEZONE
TZID:Europe/Berlin
BEGIN:DAYLIGHT
TZOFFSETFROM:+0100
TZOFFSETTO:+0200
TZNAME:CEST
DTSTART:20220327T010000
END:DAYLIGHT
BEGIN:STANDARD
TZOFFSETFROM:+0200
TZOFFSETTO:+0100
TZNAME:CET
DTSTART:20221030T010000
END:STANDARD
BEGIN:DAYLIGHT
TZOFFSETFROM:+0100
TZOFFSETTO:+0200
TZNAME:CEST
DTSTART:20230326T010000
END:DAYLIGHT
BEGIN:STANDARD
TZOFFSETFROM:+0200
TZOFFSETTO:+0100
TZNAME:CET
DTSTART:20231029T010000
END:STANDARD
BEGIN:DAYLIGHT
TZOFFSETFROM:+0100
TZOFFSETTO:+0200
TZNAME:CEST
DTSTART:20240331T010000
END:DAYLIGHT
BEGIN:STANDARD
TZOFFSETFROM:+0200
TZOFFSETTO:+0100
TZNAME:CET
DTSTART:20241027T010000
END:STANDARD
END:VTIMEZONE
BEGIN:VEVENT
DTSTART;TZID=Europe/Berlin:20230422T200000
DTEND;TZID=Europe/Berlin:20230423T060000
DTSTAMP:20260421T190737
CREATED:20230226T182142Z
LAST-MODIFIED:20230226T182142Z
UID:10000033-1682193600-1682229600@astronomie.at
SUMMARY:Messiermarathon auf der Sternwarte Gahberg
DESCRIPTION:für Mitglieder mit eigenen Teleskopen nach Voranmeldung
URL:https://astronomie.at/event/messiermarathon-auf-der-sternwarte-gahberg/
LOCATION:Sternwarte Gahberg\, Gahberg\, Weyregg am Attersee\, 4852\, Österreich
CATEGORIES:Vereinstreffen
ORGANIZER;CN="Astronomischer Arbeitskreis Salzkammergut":MAILTO:info@astronomie.at
GEO:47.9121589;13.6049812
X-APPLE-STRUCTURED-LOCATION;VALUE=URI;X-ADDRESS=Sternwarte Gahberg Gahberg Weyregg am Attersee 4852 Österreich;X-APPLE-RADIUS=500;X-TITLE=Gahberg:geo:13.6049812,47.9121589
END:VEVENT
END:VCALENDAR