BEGIN:VCALENDAR
VERSION:2.0
PRODID:-//Astronomischer Arbeitskreis Salzkammergut - ECPv6.15.20//NONSGML v1.0//EN
CALSCALE:GREGORIAN
METHOD:PUBLISH
X-WR-CALNAME:Astronomischer Arbeitskreis Salzkammergut
X-ORIGINAL-URL:https://astronomie.at
X-WR-CALDESC:Veranstaltungen für Astronomischer Arbeitskreis Salzkammergut
REFRESH-INTERVAL;VALUE=DURATION:PT1H
X-Robots-Tag:noindex
X-PUBLISHED-TTL:PT1H
BEGIN:VTIMEZONE
TZID:Europe/Berlin
BEGIN:DAYLIGHT
TZOFFSETFROM:+0100
TZOFFSETTO:+0200
TZNAME:CEST
DTSTART:20220327T010000
END:DAYLIGHT
BEGIN:STANDARD
TZOFFSETFROM:+0200
TZOFFSETTO:+0100
TZNAME:CET
DTSTART:20221030T010000
END:STANDARD
BEGIN:DAYLIGHT
TZOFFSETFROM:+0100
TZOFFSETTO:+0200
TZNAME:CEST
DTSTART:20230326T010000
END:DAYLIGHT
BEGIN:STANDARD
TZOFFSETFROM:+0200
TZOFFSETTO:+0100
TZNAME:CET
DTSTART:20231029T010000
END:STANDARD
BEGIN:DAYLIGHT
TZOFFSETFROM:+0100
TZOFFSETTO:+0200
TZNAME:CEST
DTSTART:20240331T010000
END:DAYLIGHT
BEGIN:STANDARD
TZOFFSETFROM:+0200
TZOFFSETTO:+0100
TZNAME:CET
DTSTART:20241027T010000
END:STANDARD
END:VTIMEZONE
BEGIN:VEVENT
DTSTART;TZID=Europe/Berlin:20230222T180000
DTEND;TZID=Europe/Berlin:20230222T210000
DTSTAMP:20260421T215835
CREATED:20230220T091832Z
LAST-MODIFIED:20230220T091845Z
UID:10000030-1677088800-1677099600@astronomie.at
SUMMARY:Schmale Mondsichel zwischen Jupiter und Venus
DESCRIPTION:Die schmale Mondsichel steht zwischen den Planeten Jupiter und Venus am Abendhimmel
URL:https://astronomie.at/event/schmale-mondsichel-zwischen-jupiter-und-venus/
CATEGORIES:Himmelsereignisse
ATTACH;FMTTYPE=image/jpeg:https://astronomie.at/wp-content/uploads/2023/02/Jupiter-Venus-Mond-Feber2023-Original.jpg
END:VEVENT
END:VCALENDAR