BEGIN:VCALENDAR
VERSION:2.0
PRODID:-//Astronomischer Arbeitskreis Salzkammergut - ECPv6.15.20//NONSGML v1.0//EN
CALSCALE:GREGORIAN
METHOD:PUBLISH
X-WR-CALNAME:Astronomischer Arbeitskreis Salzkammergut
X-ORIGINAL-URL:https://astronomie.at
X-WR-CALDESC:Veranstaltungen für Astronomischer Arbeitskreis Salzkammergut
REFRESH-INTERVAL;VALUE=DURATION:PT1H
X-Robots-Tag:noindex
X-PUBLISHED-TTL:PT1H
BEGIN:VTIMEZONE
TZID:Europe/Berlin
BEGIN:DAYLIGHT
TZOFFSETFROM:+0100
TZOFFSETTO:+0200
TZNAME:CEST
DTSTART:20220327T010000
END:DAYLIGHT
BEGIN:STANDARD
TZOFFSETFROM:+0200
TZOFFSETTO:+0100
TZNAME:CET
DTSTART:20221030T010000
END:STANDARD
BEGIN:DAYLIGHT
TZOFFSETFROM:+0100
TZOFFSETTO:+0200
TZNAME:CEST
DTSTART:20230326T010000
END:DAYLIGHT
BEGIN:STANDARD
TZOFFSETFROM:+0200
TZOFFSETTO:+0100
TZNAME:CET
DTSTART:20231029T010000
END:STANDARD
BEGIN:DAYLIGHT
TZOFFSETFROM:+0100
TZOFFSETTO:+0200
TZNAME:CEST
DTSTART:20240331T010000
END:DAYLIGHT
BEGIN:STANDARD
TZOFFSETFROM:+0200
TZOFFSETTO:+0100
TZNAME:CET
DTSTART:20241027T010000
END:STANDARD
END:VTIMEZONE
BEGIN:VEVENT
DTSTART;TZID=Europe/Berlin:20230127T180000
DTEND;TZID=Europe/Berlin:20230127T210000
DTSTAMP:20260421T232708
CREATED:20230102T185654Z
LAST-MODIFIED:20230102T185654Z
UID:10000028-1674842400-1674853200@astronomie.at
SUMMARY:Monatstreffen Jänner 2023
DESCRIPTION:Programm \nBernhard Hubl: \nDer CCD-Guide 2023 \nMarkus Blauensteiner: \n„NoiseXTerminator“ und „StarXTerminator“ – 2 neue plugins für Photoshop und PixInsight
URL:https://astronomie.at/event/monatstreffen-jaenner-2023/
LOCATION:Chili-Burger (ehem. Gasthaus Hellermann)\, Neubrunner Str. 2\, Lenzing\, 4860\, Österreich
CATEGORIES:Vereinstreffen
ORGANIZER;CN="Astronomischer Arbeitskreis Salzkammergut":MAILTO:info@astronomie.at
GEO:47.9686486;13.6046386
X-APPLE-STRUCTURED-LOCATION;VALUE=URI;X-ADDRESS=Chili-Burger (ehem. Gasthaus Hellermann) Neubrunner Str. 2 Lenzing 4860 Österreich;X-APPLE-RADIUS=500;X-TITLE=Neubrunner Str. 2:geo:13.6046386,47.9686486
END:VEVENT
END:VCALENDAR